BEGIN:VCALENDAR
VERSION:2.0
PRODID:-//Torquay Elementary - ECPv6.2.8.1//NONSGML v1.0//EN
CALSCALE:GREGORIAN
METHOD:PUBLISH
X-ORIGINAL-URL:https://torquay.sd61.bc.ca
X-WR-CALDESC:Events for Torquay Elementary
REFRESH-INTERVAL;VALUE=DURATION:PT1H
X-Robots-Tag:noindex
X-PUBLISHED-TTL:PT1H
BEGIN:VTIMEZONE
TZID:America/Vancouver
BEGIN:DAYLIGHT
TZOFFSETFROM:-0800
TZOFFSETTO:-0700
TZNAME:PDT
DTSTART:20150308T100000
END:DAYLIGHT
BEGIN:STANDARD
TZOFFSETFROM:-0700
TZOFFSETTO:-0800
TZNAME:PST
DTSTART:20151101T090000
END:STANDARD
END:VTIMEZONE
BEGIN:VEVENT
DTSTART;TZID=America/Vancouver:20150202T190000
DTEND;TZID=America/Vancouver:20150202T200000
DTSTAMP:20260421T132144
CREATED:20150123T222747Z
LAST-MODIFIED:20150123T222747Z
UID:1813-1422903600-1422907200@torquay.sd61.bc.ca
SUMMARY:Gordon Head Middle School Parent Information Night
DESCRIPTION:For those families who have students entering grade 6 at Gordon Head Middle School in September 2015.
URL:https://torquay.sd61.bc.ca/calendar-event/gordon-head-middle-school-parent-information-night/
END:VEVENT
BEGIN:VEVENT
DTSTART;TZID=America/Vancouver:20150209T080000
DTEND;TZID=America/Vancouver:20150209T170000
DTSTAMP:20260421T132144
CREATED:20150105T221618Z
LAST-MODIFIED:20150105T221618Z
UID:1804-1423468800-1423501200@torquay.sd61.bc.ca
SUMMARY:Family Day - No School
DESCRIPTION:
URL:https://torquay.sd61.bc.ca/calendar-event/family-day-no-school/
END:VEVENT
BEGIN:VEVENT
DTSTART;TZID=America/Vancouver:20150211T183000
DTEND;TZID=America/Vancouver:20150211T200000
DTSTAMP:20260421T132144
CREATED:20150205T192603Z
LAST-MODIFIED:20150205T192603Z
UID:1832-1423679400-1423684800@torquay.sd61.bc.ca
SUMMARY:February TPAC Meeting
DESCRIPTION:6:30 in the Torquay Library
URL:https://torquay.sd61.bc.ca/calendar-event/february-tpac-meeting/
END:VEVENT
BEGIN:VEVENT
DTSTART;TZID=America/Vancouver:20150212T080000
DTEND;TZID=America/Vancouver:20150212T170000
DTSTAMP:20260421T132144
CREATED:20150130T162832Z
LAST-MODIFIED:20150130T162951Z
UID:1820-1423728000-1423760400@torquay.sd61.bc.ca
SUMMARY:K - 12 Transfer begins
DESCRIPTION:For those students interested in transferring to a school other than their catchment school please www.sd61.bc.ca for details.
URL:https://torquay.sd61.bc.ca/calendar-event/k-12-transfer-begins/
END:VEVENT
BEGIN:VEVENT
DTSTART;TZID=America/Vancouver:20150213T115500
DTEND;TZID=America/Vancouver:20150213T121500
DTSTAMP:20260421T132144
CREATED:20150105T221711Z
LAST-MODIFIED:20150105T221711Z
UID:1805-1423828500-1423829700@torquay.sd61.bc.ca
SUMMARY:Fun Lunch - Pizza (Term 2)
DESCRIPTION:
URL:https://torquay.sd61.bc.ca/calendar-event/fun-lunch-pizza-term-2/
END:VEVENT
BEGIN:VEVENT
DTSTART;TZID=America/Vancouver:20150220T080000
DTEND;TZID=America/Vancouver:20150220T170000
DTSTAMP:20260421T132144
CREATED:20150130T163011Z
LAST-MODIFIED:20150130T163011Z
UID:1821-1424419200-1424451600@torquay.sd61.bc.ca
SUMMARY:K - 12 Transfer Process Finishes
DESCRIPTION:
URL:https://torquay.sd61.bc.ca/calendar-event/k-12-transfer-process-finishes/
END:VEVENT
BEGIN:VEVENT
DTSTART;TZID=America/Vancouver:20150220T080000
DTEND;TZID=America/Vancouver:20150220T170000
DTSTAMP:20260421T132144
CREATED:20150130T163116Z
LAST-MODIFIED:20150130T163116Z
UID:1822-1424419200-1424451600@torquay.sd61.bc.ca
SUMMARY:Pro-D - District wide (no school)
DESCRIPTION:
URL:https://torquay.sd61.bc.ca/calendar-event/pro-d-district-wide-no-school/
END:VEVENT
BEGIN:VEVENT
DTSTART;TZID=America/Vancouver:20150225T080000
DTEND;TZID=America/Vancouver:20150225T150000
DTSTAMP:20260421T132144
CREATED:20150105T221850Z
LAST-MODIFIED:20150130T163525Z
UID:1807-1424851200-1424876400@torquay.sd61.bc.ca
SUMMARY:Pink Shirt Day
DESCRIPTION:                \n 
URL:https://torquay.sd61.bc.ca/calendar-event/pink-shirt-day-2/
END:VEVENT
BEGIN:VEVENT
DTSTART;TZID=America/Vancouver:20150225T080000
DTEND;TZID=America/Vancouver:20150225T170000
DTSTAMP:20260421T132144
CREATED:20150105T222719Z
LAST-MODIFIED:20150105T222719Z
UID:1808-1424851200-1424883600@torquay.sd61.bc.ca
SUMMARY:Cupcake Day
DESCRIPTION:Division 3 & 8 provide yummy cupcakes or cookies to be sold in the gym after school.
URL:https://torquay.sd61.bc.ca/calendar-event/cupcake-day-2/
END:VEVENT
BEGIN:VEVENT
DTSTART;TZID=America/Vancouver:20150227T115500
DTEND;TZID=America/Vancouver:20150227T121500
DTSTAMP:20260421T132144
CREATED:20150105T221738Z
LAST-MODIFIED:20150105T221738Z
UID:1806-1425038100-1425039300@torquay.sd61.bc.ca
SUMMARY:Fun Lunch - Subway
DESCRIPTION:
URL:https://torquay.sd61.bc.ca/calendar-event/fun-lunch-subway-2/
END:VEVENT
END:VCALENDAR