BEGIN:VCALENDAR
VERSION:2.0
PRODID:-//Torquay Elementary - ECPv6.2.8.1//NONSGML v1.0//EN
CALSCALE:GREGORIAN
METHOD:PUBLISH
X-WR-CALNAME:Torquay Elementary
X-ORIGINAL-URL:https://torquay.sd61.bc.ca
X-WR-CALDESC:Events for Torquay Elementary
REFRESH-INTERVAL;VALUE=DURATION:PT1H
X-Robots-Tag:noindex
X-PUBLISHED-TTL:PT1H
BEGIN:VTIMEZONE
TZID:America/Vancouver
BEGIN:DAYLIGHT
TZOFFSETFROM:-0800
TZOFFSETTO:-0700
TZNAME:PDT
DTSTART:20140309T100000
END:DAYLIGHT
BEGIN:STANDARD
TZOFFSETFROM:-0700
TZOFFSETTO:-0800
TZNAME:PST
DTSTART:20141102T090000
END:STANDARD
BEGIN:DAYLIGHT
TZOFFSETFROM:-0800
TZOFFSETTO:-0700
TZNAME:PDT
DTSTART:20150308T100000
END:DAYLIGHT
BEGIN:STANDARD
TZOFFSETFROM:-0700
TZOFFSETTO:-0800
TZNAME:PST
DTSTART:20151101T090000
END:STANDARD
END:VTIMEZONE
BEGIN:VEVENT
DTSTART;TZID=America/Vancouver:20141202T090000
DTEND;TZID=America/Vancouver:20141202T120000
DTSTAMP:20260423T014208
CREATED:20141015T215134Z
LAST-MODIFIED:20141119T212310Z
UID:1680-1417510800-1417521600@torquay.sd61.bc.ca
SUMMARY:Picture Retake Day
DESCRIPTION:
URL:https://torquay.sd61.bc.ca/calendar-event/picture-retake-day/
END:VEVENT
BEGIN:VEVENT
DTSTART;TZID=America/Vancouver:20141205T115500
DTEND;TZID=America/Vancouver:20141205T121500
DTSTAMP:20260423T014208
CREATED:20141202T174037Z
LAST-MODIFIED:20141202T185408Z
UID:1765-1417780500-1417781700@torquay.sd61.bc.ca
SUMMARY:Fun Lunch - Pizza
DESCRIPTION:Provided for those students that signed up for term 1
URL:https://torquay.sd61.bc.ca/calendar-event/hot-lunch-pizza/
END:VEVENT
BEGIN:VEVENT
DTSTART;TZID=America/Vancouver:20141210T115000
DTEND;TZID=America/Vancouver:20141210T174000
DTSTAMP:20260423T014208
CREATED:20141202T175008Z
LAST-MODIFIED:20141202T175008Z
UID:1766-1418212200-1418233200@torquay.sd61.bc.ca
SUMMARY:Staff Appreciation Lunch
DESCRIPTION:
URL:https://torquay.sd61.bc.ca/calendar-event/staff-appreciation-lunch/
END:VEVENT
BEGIN:VEVENT
DTSTART;TZID=America/Vancouver:20141211T090000
DTEND;TZID=America/Vancouver:20141211T100000
DTSTAMP:20260423T014208
CREATED:20141202T175913Z
LAST-MODIFIED:20141202T175913Z
UID:1768-1418288400-1418292000@torquay.sd61.bc.ca
SUMMARY:Performance - Hey Bully Bully!
DESCRIPTION:
URL:https://torquay.sd61.bc.ca/calendar-event/performance-hey-bully-bully/
END:VEVENT
BEGIN:VEVENT
DTSTART;TZID=America/Vancouver:20141212T094500
DTEND;TZID=America/Vancouver:20141212T101500
DTSTAMP:20260423T014208
CREATED:20141202T180226Z
LAST-MODIFIED:20141202T180226Z
UID:1769-1418377500-1418379300@torquay.sd61.bc.ca
SUMMARY:Jingle Bell Run
DESCRIPTION:Students and staff will merrily prance around the school fields with bells on their shoes producing a most festive sound to ring in the holiday season.
URL:https://torquay.sd61.bc.ca/calendar-event/jingle-bell-run/
END:VEVENT
BEGIN:VEVENT
DTSTART;TZID=America/Vancouver:20141216T130000
DTEND;TZID=America/Vancouver:20141216T144000
DTSTAMP:20260423T014208
CREATED:20141202T185838Z
LAST-MODIFIED:20141202T185839Z
UID:1772-1418734800-1418740800@torquay.sd61.bc.ca
SUMMARY:"A Holiday of Music" Dress Rehearsal
DESCRIPTION:
URL:https://torquay.sd61.bc.ca/calendar-event/a-holiday-of-music-dress-rehearsal/
END:VEVENT
BEGIN:VEVENT
DTSTART;TZID=America/Vancouver:20141217T133000
DTEND;TZID=America/Vancouver:20141217T144000
DTSTAMP:20260423T014208
CREATED:20141202T183254Z
LAST-MODIFIED:20141202T183254Z
UID:1773-1418823000-1418827200@torquay.sd61.bc.ca
SUMMARY:"A Holiday of Music" Performance
DESCRIPTION:Tickets still available on the ticket exchange board located outside of the school office.
URL:https://torquay.sd61.bc.ca/calendar-event/a-holiday-of-music-performance/
END:VEVENT
BEGIN:VEVENT
DTSTART;TZID=America/Vancouver:20141218T133000
DTEND;TZID=America/Vancouver:20141218T144000
DTSTAMP:20260423T014208
CREATED:20141202T183415Z
LAST-MODIFIED:20141202T183415Z
UID:1774-1418909400-1418913600@torquay.sd61.bc.ca
SUMMARY:"A Holiday of Music" Performance
DESCRIPTION:Tickets still available for this performance on the Ticket Exchange board located outside the school office.
URL:https://torquay.sd61.bc.ca/calendar-event/a-holiday-of-music-performance-2/
END:VEVENT
BEGIN:VEVENT
DTSTART;TZID=America/Vancouver:20141219T084500
DTEND;TZID=America/Vancouver:20141219T144000
DTSTAMP:20260423T014208
CREATED:20141202T183730Z
LAST-MODIFIED:20141202T185326Z
UID:1775-1418978700-1419000000@torquay.sd61.bc.ca
SUMMARY:Pajama's and Movie Day
DESCRIPTION:Students and staff wear their favourite and coziest PJ’s to school and settle in to a fun day of classroom activities and an afternoon of a movie with the whole school in the gym.
URL:https://torquay.sd61.bc.ca/calendar-event/pajamas-and-movie-day/
END:VEVENT
BEGIN:VEVENT
DTSTART;TZID=America/Vancouver:20141219T115000
DTEND;TZID=America/Vancouver:20141219T121000
DTSTAMP:20260423T014208
CREATED:20141202T185210Z
LAST-MODIFIED:20141202T185210Z
UID:1776-1418989800-1418991000@torquay.sd61.bc.ca
SUMMARY:Fun Lunch - Subway
DESCRIPTION:Term 1 fun lunch
URL:https://torquay.sd61.bc.ca/calendar-event/fun-lunch-subway/
END:VEVENT
BEGIN:VEVENT
DTSTART;VALUE=DATE:20141222
DTEND;VALUE=DATE:20150103
DTSTAMP:20260423T014208
CREATED:20141202T185448Z
LAST-MODIFIED:20141202T185448Z
UID:1777-1419206400-1420243199@torquay.sd61.bc.ca
SUMMARY:Winter Break - School Closed
DESCRIPTION:
URL:https://torquay.sd61.bc.ca/calendar-event/winter-break-school-closed/
END:VEVENT
END:VCALENDAR