BEGIN:VCALENDAR
VERSION:2.0
PRODID:-//Torquay Elementary - ECPv6.2.8.1//NONSGML v1.0//EN
CALSCALE:GREGORIAN
METHOD:PUBLISH
X-WR-CALNAME:Torquay Elementary
X-ORIGINAL-URL:https://torquay.sd61.bc.ca
X-WR-CALDESC:Events for Torquay Elementary
REFRESH-INTERVAL;VALUE=DURATION:PT1H
X-Robots-Tag:noindex
X-PUBLISHED-TTL:PT1H
BEGIN:VTIMEZONE
TZID:America/Vancouver
BEGIN:DAYLIGHT
TZOFFSETFROM:-0800
TZOFFSETTO:-0700
TZNAME:PDT
DTSTART:20130310T100000
END:DAYLIGHT
BEGIN:STANDARD
TZOFFSETFROM:-0700
TZOFFSETTO:-0800
TZNAME:PST
DTSTART:20131103T090000
END:STANDARD
END:VTIMEZONE
BEGIN:VEVENT
DTSTART;VALUE=DATE:20130903
DTEND;VALUE=DATE:20130904
DTSTAMP:20260423T124512
CREATED:20130604T200057Z
LAST-MODIFIED:20130604T203508Z
UID:969-1378166400-1378252799@torquay.sd61.bc.ca
SUMMARY:School Opening Day
DESCRIPTION:
URL:https://torquay.sd61.bc.ca/calendar-event/school-opening-day/
END:VEVENT
BEGIN:VEVENT
DTSTART;TZID=America/Vancouver:20130906T090000
DTEND;TZID=America/Vancouver:20130906T233000
DTSTAMP:20260423T124512
CREATED:20130829T224522Z
LAST-MODIFIED:20130829T224821Z
UID:1105-1378458000-1378510200@torquay.sd61.bc.ca
SUMMARY:Kindergarten First Day
DESCRIPTION:Kindergarten students only attend school from 9:00 am to 11:30 am on this day and start full days next week.
URL:https://torquay.sd61.bc.ca/calendar-event/kindergarten-first-day/
END:VEVENT
BEGIN:VEVENT
DTSTART;VALUE=DATE:20130923
DTEND;VALUE=DATE:20130924
DTSTAMP:20260423T124512
CREATED:20130604T200148Z
LAST-MODIFIED:20130604T203508Z
UID:970-1379894400-1379980799@torquay.sd61.bc.ca
SUMMARY:Professional Development Day
DESCRIPTION:
URL:https://torquay.sd61.bc.ca/calendar-event/professional-development-day/
END:VEVENT
END:VCALENDAR