BEGIN:VCALENDAR
VERSION:2.0
PRODID:-//Torquay Elementary - ECPv6.2.8.1//NONSGML v1.0//EN
CALSCALE:GREGORIAN
METHOD:PUBLISH
X-WR-CALNAME:Torquay Elementary
X-ORIGINAL-URL:https://torquay.sd61.bc.ca
X-WR-CALDESC:Events for Torquay Elementary
REFRESH-INTERVAL;VALUE=DURATION:PT1H
X-Robots-Tag:noindex
X-PUBLISHED-TTL:PT1H
BEGIN:VTIMEZONE
TZID:America/Vancouver
BEGIN:DAYLIGHT
TZOFFSETFROM:-0800
TZOFFSETTO:-0700
TZNAME:PDT
DTSTART:20160313T100000
END:DAYLIGHT
BEGIN:STANDARD
TZOFFSETFROM:-0700
TZOFFSETTO:-0800
TZNAME:PST
DTSTART:20161106T090000
END:STANDARD
END:VTIMEZONE
BEGIN:VEVENT
DTSTART;TZID=America/Vancouver:20161014T115000
DTEND;TZID=America/Vancouver:20161014T130000
DTSTAMP:20260419T183519
CREATED:20161013T212052Z
LAST-MODIFIED:20161013T212141Z
UID:2755-1476445800-1476450000@torquay.sd61.bc.ca
SUMMARY:Pizza Fun Lunch
DESCRIPTION:Pizza Fun Lunch \nFor students that pre ordered.
URL:https://torquay.sd61.bc.ca/calendar-event/pizza-fun-lunch/
END:VEVENT
BEGIN:VEVENT
DTSTART;TZID=America/Vancouver:20161012T183000
DTEND;TZID=America/Vancouver:20161012T193000
DTSTAMP:20260419T183519
CREATED:20161003T225507Z
LAST-MODIFIED:20161003T225507Z
UID:2740-1476297000-1476300600@torquay.sd61.bc.ca
SUMMARY:PAC meeting
DESCRIPTION:All parents are members of the PAC and are encouraged to attend. \nContact the PAC at pac.torquay@gamil.com for more information.
URL:https://torquay.sd61.bc.ca/calendar-event/pac-meeting-2/
LOCATION:School Library
END:VEVENT
BEGIN:VEVENT
DTSTART;TZID=America/Vancouver:20161010T080000
DTEND;TZID=America/Vancouver:20161010T170000
DTSTAMP:20260419T183519
CREATED:20160621T204558Z
LAST-MODIFIED:20160621T204558Z
UID:2710-1476086400-1476118800@torquay.sd61.bc.ca
SUMMARY:Thanksgiving - School Closed
DESCRIPTION:
URL:https://torquay.sd61.bc.ca/calendar-event/thanksgiving-school-closed/
END:VEVENT
BEGIN:VEVENT
DTSTART;TZID=America/Vancouver:20161006T080000
DTEND;TZID=America/Vancouver:20161006T170000
DTSTAMP:20260419T183519
CREATED:20160621T205353Z
LAST-MODIFIED:20160621T205353Z
UID:2717-1475740800-1475773200@torquay.sd61.bc.ca
SUMMARY:Picture Day
DESCRIPTION:
URL:https://torquay.sd61.bc.ca/calendar-event/picture-day-2/
END:VEVENT
BEGIN:VEVENT
DTSTART;TZID=America/Vancouver:20161006T080000
DTEND;TZID=America/Vancouver:20161006T170000
DTSTAMP:20260419T183519
CREATED:20160621T205339Z
LAST-MODIFIED:20160621T205339Z
UID:2716-1475740800-1475773200@torquay.sd61.bc.ca
SUMMARY:Parent Teacher interviews - students dismissed at 11:54
DESCRIPTION:Students dismissed at 11:54. \nParent/Teachers interviews 1 to 6pm
URL:https://torquay.sd61.bc.ca/calendar-event/parent-teacher-interviews-students-dismissed-at-1154-2/
END:VEVENT
BEGIN:VEVENT
DTSTART;TZID=America/Vancouver:20161005T080000
DTEND;TZID=America/Vancouver:20161005T170000
DTSTAMP:20260419T183519
CREATED:20160621T205303Z
LAST-MODIFIED:20160621T205303Z
UID:2715-1475654400-1475686800@torquay.sd61.bc.ca
SUMMARY:Parent Teacher interviews - students dismissed at 11:54
DESCRIPTION:Students dismissed at 11:54. \nParent/Teachers interviews 1 to 6pm
URL:https://torquay.sd61.bc.ca/calendar-event/parent-teacher-interviews-students-dismissed-at-1154/
END:VEVENT
BEGIN:VEVENT
DTSTART;TZID=America/Vancouver:20161004T080000
DTEND;TZID=America/Vancouver:20161004T080000
DTSTAMP:20260419T183519
CREATED:20161004T153418Z
LAST-MODIFIED:20161004T155057Z
UID:2750-1475568000-1475568000@torquay.sd61.bc.ca
SUMMARY:BCAA Playground Installation
DESCRIPTION:Come help install the new Torquay Playground! \nSign up is taking place outside the office on the rolling chalkboard.
URL:https://torquay.sd61.bc.ca/calendar-event/bcaa-playground-installation/
LOCATION:School grounds
END:VEVENT
BEGIN:VEVENT
DTSTART;TZID=America/Vancouver:20160919T080000
DTEND;TZID=America/Vancouver:20160919T170000
DTSTAMP:20260419T183519
CREATED:20160621T204517Z
LAST-MODIFIED:20160621T204517Z
UID:2709-1474272000-1474304400@torquay.sd61.bc.ca
SUMMARY:Pro D Day - Students not in session
DESCRIPTION:
URL:https://torquay.sd61.bc.ca/calendar-event/pro-d-day-students-not-in-session-3/
END:VEVENT
BEGIN:VEVENT
DTSTART;TZID=America/Vancouver:20160915T170000
DTEND;TZID=America/Vancouver:20160915T193000
DTSTAMP:20260419T183519
CREATED:20160621T204447Z
LAST-MODIFIED:20160621T204447Z
UID:2708-1473958800-1473967800@torquay.sd61.bc.ca
SUMMARY:Welcome Back Picnic
DESCRIPTION:All Torquay families are invited to come to the school and enjoy a fun family get together.  More information to follow.
URL:https://torquay.sd61.bc.ca/calendar-event/welcome-back-picnic/
END:VEVENT
BEGIN:VEVENT
DTSTART;TZID=America/Vancouver:20160909T084500
DTEND;TZID=America/Vancouver:20160909T144000
DTSTAMP:20260419T183519
CREATED:20160621T204034Z
LAST-MODIFIED:20160621T204034Z
UID:2707-1473410700-1473432000@torquay.sd61.bc.ca
SUMMARY:K's attend full day
DESCRIPTION:
URL:https://torquay.sd61.bc.ca/calendar-event/ks-attend-full-day/
END:VEVENT
BEGIN:VEVENT
DTSTART;TZID=America/Vancouver:20160908T084500
DTEND;TZID=America/Vancouver:20160908T113000
DTSTAMP:20260419T183519
CREATED:20160621T204009Z
LAST-MODIFIED:20160621T204009Z
UID:2706-1473324300-1473334200@torquay.sd61.bc.ca
SUMMARY:Kindergarten 1/2 day
DESCRIPTION:2016-17 K students will attend 8:45 to 11:30 am. Please provide a snack and water.
URL:https://torquay.sd61.bc.ca/calendar-event/kindergarten-12-day/
END:VEVENT
BEGIN:VEVENT
DTSTART;TZID=America/Vancouver:20160906T090000
DTEND;TZID=America/Vancouver:20160906T113000
DTSTAMP:20260419T183519
CREATED:20160512T211025Z
LAST-MODIFIED:20160512T211025Z
UID:2660-1473152400-1473161400@torquay.sd61.bc.ca
SUMMARY:First Day of School - 9:00 to 11:30
DESCRIPTION:ONLY students in grades 1 to 5 will attend for an abbreviated day.
URL:https://torquay.sd61.bc.ca/calendar-event/first-day-of-school-900-to-1130/
END:VEVENT
BEGIN:VEVENT
DTSTART;TZID=America/Vancouver:20160822T090000
DTEND;TZID=America/Vancouver:20160822T130000
DTSTAMP:20260419T183519
CREATED:20160621T205042Z
LAST-MODIFIED:20160621T205042Z
UID:2714-1471856400-1471870800@torquay.sd61.bc.ca
SUMMARY:School Office Opens after summer break
DESCRIPTION:
URL:https://torquay.sd61.bc.ca/calendar-event/school-office-opens-after-summer-break/
END:VEVENT
BEGIN:VEVENT
DTSTART;TZID=America/Vancouver:20160623T144000
DTEND;TZID=America/Vancouver:20160623T144000
DTSTAMP:20260419T183519
CREATED:20160427T185139Z
LAST-MODIFIED:20160427T185208Z
UID:2649-1466692800-1466692800@torquay.sd61.bc.ca
SUMMARY:Last Day School
DESCRIPTION:
URL:https://torquay.sd61.bc.ca/calendar-event/last-day-school/
END:VEVENT
BEGIN:VEVENT
DTSTART;TZID=America/Vancouver:20160623T104500
DTEND;TZID=America/Vancouver:20160623T120000
DTSTAMP:20260419T183519
CREATED:20160427T185040Z
LAST-MODIFIED:20160608T193411Z
UID:2648-1466678700-1466683200@torquay.sd61.bc.ca
SUMMARY:Grade 5 Farewell Assembly
DESCRIPTION:A final tribute to our grade 5’s a they finish their elementary school career and move on to new adventures in middle school
URL:https://torquay.sd61.bc.ca/calendar-event/grade-5-farewell-assembly-2/
END:VEVENT
BEGIN:VEVENT
DTSTART;TZID=America/Vancouver:20160623T080000
DTEND;TZID=America/Vancouver:20160623T170000
DTSTAMP:20260419T183519
CREATED:20160212T215516Z
LAST-MODIFIED:20160212T215516Z
UID:2504-1466668800-1466701200@torquay.sd61.bc.ca
SUMMARY:Last Day of School
DESCRIPTION:Last day of classes for the 2015-16 school year. Normal school hours apply.
URL:https://torquay.sd61.bc.ca/calendar-event/last-day-of-school/
END:VEVENT
BEGIN:VEVENT
DTSTART;TZID=America/Vancouver:20160622T090000
DTEND;TZID=America/Vancouver:20160622T093000
DTSTAMP:20260419T183519
CREATED:20160427T184613Z
LAST-MODIFIED:20160427T184613Z
UID:2647-1466586000-1466587800@torquay.sd61.bc.ca
SUMMARY:Final Recognition Assembly
DESCRIPTION:
URL:https://torquay.sd61.bc.ca/calendar-event/final-recognition-assembly/
END:VEVENT
BEGIN:VEVENT
DTSTART;TZID=America/Vancouver:20160620T130000
DTEND;TZID=America/Vancouver:20160620T143000
DTSTAMP:20260419T183519
CREATED:20160427T184139Z
LAST-MODIFIED:20160526T210815Z
UID:2645-1466427600-1466433000@torquay.sd61.bc.ca
SUMMARY:Fun Day Afternoon
DESCRIPTION:As in past years there will be various stations set up for children to participate in and enjoy a fun filled afternoon!
URL:https://torquay.sd61.bc.ca/calendar-event/fun-day-afternoon-2/
END:VEVENT
BEGIN:VEVENT
DTSTART;TZID=America/Vancouver:20160617T115500
DTEND;TZID=America/Vancouver:20160617T121000
DTSTAMP:20260419T183519
CREATED:20160427T183504Z
LAST-MODIFIED:20160427T183814Z
UID:2642-1466164500-1466165400@torquay.sd61.bc.ca
SUMMARY:Subway Lunch
DESCRIPTION:
URL:https://torquay.sd61.bc.ca/calendar-event/subway-lunch-2/
END:VEVENT
BEGIN:VEVENT
DTSTART;TZID=America/Vancouver:20160617T080000
DTEND;TZID=America/Vancouver:20160617T170000
DTSTAMP:20260419T183519
CREATED:20160427T183418Z
LAST-MODIFIED:20160427T183418Z
UID:2640-1466150400-1466182800@torquay.sd61.bc.ca
SUMMARY:Bike Roadeo
DESCRIPTION:Bring your bikes\, scooters or any wheeled mode of transportation and practice your road safety with the Saanich Police Department. \nAll students MUST bring a helmet to participate and bikes/scooters must be in proper working order. \n**Parent volunteers always encouraged. 🙂
URL:https://torquay.sd61.bc.ca/calendar-event/bike-roadeo-3/
END:VEVENT
BEGIN:VEVENT
DTSTART;TZID=America/Vancouver:20160616T100000
DTEND;TZID=America/Vancouver:20160616T144000
DTSTAMP:20260419T183519
CREATED:20160427T184522Z
LAST-MODIFIED:20160513T212400Z
UID:2646-1466071200-1466088000@torquay.sd61.bc.ca
SUMMARY:Beach Day
DESCRIPTION:All students will walk to Mount Douglas Beach together and enjoy a fun filled day of sun\, sand and friends. \n**small beach toys permissible so long as students can carry them to and from the beach.
URL:https://torquay.sd61.bc.ca/calendar-event/beach-day-2/
END:VEVENT
BEGIN:VEVENT
DTSTART;TZID=America/Vancouver:20160610T093000
DTEND;TZID=America/Vancouver:20160610T143000
DTSTAMP:20260419T183519
CREATED:20160608T194322Z
LAST-MODIFIED:20160608T194322Z
UID:2694-1465551000-1465569000@torquay.sd61.bc.ca
SUMMARY:Grade 5 Year End Trip
DESCRIPTION:
URL:https://torquay.sd61.bc.ca/calendar-event/grade-5-year-end-trip/
END:VEVENT
BEGIN:VEVENT
DTSTART;TZID=America/Vancouver:20160610T080000
DTEND;TZID=America/Vancouver:20160610T170000
DTSTAMP:20260419T183519
CREATED:20160427T183237Z
LAST-MODIFIED:20160427T183237Z
UID:2639-1465545600-1465578000@torquay.sd61.bc.ca
SUMMARY:All library books due back
DESCRIPTION:All students are asked to return their borrow library books by this date.
URL:https://torquay.sd61.bc.ca/calendar-event/all-library-books-due-back/
END:VEVENT
BEGIN:VEVENT
DTSTART;TZID=America/Vancouver:20160603T115500
DTEND;TZID=America/Vancouver:20160603T121000
DTSTAMP:20260419T183519
CREATED:20160427T183441Z
LAST-MODIFIED:20160427T183441Z
UID:2641-1464954900-1464955800@torquay.sd61.bc.ca
SUMMARY:Pizza Day
DESCRIPTION:
URL:https://torquay.sd61.bc.ca/calendar-event/pizza-day-8/
END:VEVENT
BEGIN:VEVENT
DTSTART;TZID=America/Vancouver:20160603T080000
DTEND;TZID=America/Vancouver:20160603T170000
DTSTAMP:20260419T183519
CREATED:20160427T182521Z
LAST-MODIFIED:20160427T182521Z
UID:2632-1464940800-1464973200@torquay.sd61.bc.ca
SUMMARY:Welcome to Kindergarten Orientation - **note times
DESCRIPTION:New Kindergarten families starting in September 2016 will attend in small groups and visit the kindergarten classroom \n9:15 to 10:00; and \n11:00 to 11:45
URL:https://torquay.sd61.bc.ca/calendar-event/welcome-to-kindergarten-orientation-note-times-2/
END:VEVENT
BEGIN:VEVENT
DTSTART;TZID=America/Vancouver:20160602T080000
DTEND;TZID=America/Vancouver:20160602T170000
DTSTAMP:20260419T183519
CREATED:20160427T182441Z
LAST-MODIFIED:20160427T182441Z
UID:2631-1464854400-1464886800@torquay.sd61.bc.ca
SUMMARY:Welcome to Kindergarten Orientation ** note times
DESCRIPTION:New Kindergarten families starting in September 2016 will attend in small groups and visit the kindergarten classroom \n  \n9:15 to 10:00; and \n11:00 to 11:45
URL:https://torquay.sd61.bc.ca/calendar-event/welcome-to-kindergarten-orientation-note-times/
END:VEVENT
BEGIN:VEVENT
DTSTART;TZID=America/Vancouver:20160601T173000
DTEND;TZID=America/Vancouver:20160601T200000
DTSTAMP:20260419T183519
CREATED:20160229T200850Z
LAST-MODIFIED:20160229T200850Z
UID:2555-1464802200-1464811200@torquay.sd61.bc.ca
SUMMARY:Track City Finals
DESCRIPTION:All those students that qualified in their zone will run at the UVic track against all the other zone finalists. \n** Parents are responsible for getting students to and from the event.
URL:https://torquay.sd61.bc.ca/calendar-event/track-city-finals/
END:VEVENT
BEGIN:VEVENT
DTSTART;TZID=America/Vancouver:20160531T144000
DTEND;TZID=America/Vancouver:20160531T145500
DTSTAMP:20260419T183519
CREATED:20151022T152032Z
LAST-MODIFIED:20151022T152032Z
UID:2071-1464705600-1464706500@torquay.sd61.bc.ca
SUMMARY:Cupcake Day - Divisions 3 and 7
DESCRIPTION:As in previous months\, students in divisions 3 and 7 will provide cupcakes to be sold after school. \nAllergy aware cupcakes will be sold in the office as available.
URL:https://torquay.sd61.bc.ca/calendar-event/cupcake-day-divisions-3-and-7/
END:VEVENT
BEGIN:VEVENT
DTSTART;TZID=America/Vancouver:20160527T115500
DTEND;TZID=America/Vancouver:20160527T121000
DTSTAMP:20260419T183519
CREATED:20160427T182634Z
LAST-MODIFIED:20160427T182634Z
UID:2633-1464350100-1464351000@torquay.sd61.bc.ca
SUMMARY:Subway Lunch
DESCRIPTION:
URL:https://torquay.sd61.bc.ca/calendar-event/subway-lunch/
END:VEVENT
BEGIN:VEVENT
DTSTART;TZID=America/Vancouver:20160526T090000
DTEND;TZID=America/Vancouver:20160526T093000
DTSTAMP:20260419T183519
CREATED:20160427T181933Z
LAST-MODIFIED:20160427T181933Z
UID:2629-1464253200-1464255000@torquay.sd61.bc.ca
SUMMARY:Recognition Assembly
DESCRIPTION:
URL:https://torquay.sd61.bc.ca/calendar-event/recognition-assembly-9/
END:VEVENT
END:VCALENDAR