BEGIN:VCALENDAR
VERSION:2.0
PRODID:-//Torquay Elementary - ECPv6.2.8.1//NONSGML v1.0//EN
CALSCALE:GREGORIAN
METHOD:PUBLISH
X-WR-CALNAME:Torquay Elementary
X-ORIGINAL-URL:https://torquay.sd61.bc.ca
X-WR-CALDESC:Events for Torquay Elementary
REFRESH-INTERVAL;VALUE=DURATION:PT1H
X-Robots-Tag:noindex
X-PUBLISHED-TTL:PT1H
BEGIN:VTIMEZONE
TZID:America/Vancouver
BEGIN:DAYLIGHT
TZOFFSETFROM:-0800
TZOFFSETTO:-0700
TZNAME:PDT
DTSTART:20160313T100000
END:DAYLIGHT
BEGIN:STANDARD
TZOFFSETFROM:-0700
TZOFFSETTO:-0800
TZNAME:PST
DTSTART:20161106T090000
END:STANDARD
END:VTIMEZONE
BEGIN:VEVENT
DTSTART;TZID=America/Vancouver:20160602T080000
DTEND;TZID=America/Vancouver:20160602T170000
DTSTAMP:20260419T193420
CREATED:20160427T182441Z
LAST-MODIFIED:20160427T182441Z
UID:2631-1464854400-1464886800@torquay.sd61.bc.ca
SUMMARY:Welcome to Kindergarten Orientation ** note times
DESCRIPTION:New Kindergarten families starting in September 2016 will attend in small groups and visit the kindergarten classroom \n  \n9:15 to 10:00; and \n11:00 to 11:45
URL:https://torquay.sd61.bc.ca/calendar-event/welcome-to-kindergarten-orientation-note-times/
END:VEVENT
BEGIN:VEVENT
DTSTART;TZID=America/Vancouver:20160601T173000
DTEND;TZID=America/Vancouver:20160601T200000
DTSTAMP:20260419T193420
CREATED:20160229T200850Z
LAST-MODIFIED:20160229T200850Z
UID:2555-1464802200-1464811200@torquay.sd61.bc.ca
SUMMARY:Track City Finals
DESCRIPTION:All those students that qualified in their zone will run at the UVic track against all the other zone finalists. \n** Parents are responsible for getting students to and from the event.
URL:https://torquay.sd61.bc.ca/calendar-event/track-city-finals/
END:VEVENT
BEGIN:VEVENT
DTSTART;TZID=America/Vancouver:20160531T144000
DTEND;TZID=America/Vancouver:20160531T145500
DTSTAMP:20260419T193420
CREATED:20151022T152032Z
LAST-MODIFIED:20151022T152032Z
UID:2071-1464705600-1464706500@torquay.sd61.bc.ca
SUMMARY:Cupcake Day - Divisions 3 and 7
DESCRIPTION:As in previous months\, students in divisions 3 and 7 will provide cupcakes to be sold after school. \nAllergy aware cupcakes will be sold in the office as available.
URL:https://torquay.sd61.bc.ca/calendar-event/cupcake-day-divisions-3-and-7/
END:VEVENT
BEGIN:VEVENT
DTSTART;TZID=America/Vancouver:20160527T115500
DTEND;TZID=America/Vancouver:20160527T121000
DTSTAMP:20260419T193420
CREATED:20160427T182634Z
LAST-MODIFIED:20160427T182634Z
UID:2633-1464350100-1464351000@torquay.sd61.bc.ca
SUMMARY:Subway Lunch
DESCRIPTION:
URL:https://torquay.sd61.bc.ca/calendar-event/subway-lunch/
END:VEVENT
BEGIN:VEVENT
DTSTART;TZID=America/Vancouver:20160526T090000
DTEND;TZID=America/Vancouver:20160526T093000
DTSTAMP:20260419T193420
CREATED:20160427T181933Z
LAST-MODIFIED:20160427T181933Z
UID:2629-1464253200-1464255000@torquay.sd61.bc.ca
SUMMARY:Recognition Assembly
DESCRIPTION:
URL:https://torquay.sd61.bc.ca/calendar-event/recognition-assembly-9/
END:VEVENT
BEGIN:VEVENT
DTSTART;TZID=America/Vancouver:20160526T080000
DTEND;TZID=America/Vancouver:20160526T090000
DTSTAMP:20260419T193420
CREATED:20160427T173506Z
LAST-MODIFIED:20160427T181844Z
UID:2628-1464249600-1464253200@torquay.sd61.bc.ca
SUMMARY:Parent Appreciation
DESCRIPTION:Parents are invited to join staff at the back of the school before the bell and enjoy a nice cup of coffee/tea and a treat. This is our way of saying thank you. We appreciate all your support and team work during the school year.
URL:https://torquay.sd61.bc.ca/calendar-event/parent-appreciation/
END:VEVENT
BEGIN:VEVENT
DTSTART;TZID=America/Vancouver:20160525T100000
DTEND;TZID=America/Vancouver:20160525T143000
DTSTAMP:20260419T193420
CREATED:20160229T200350Z
LAST-MODIFIED:20160519T222854Z
UID:2554-1464170400-1464186600@torquay.sd61.bc.ca
SUMMARY:Zone A Track Meet
DESCRIPTION:All students in grades 3 to 5 that wish to participate will run against other schools at UVic  track. \nParents are welcome to watch their children during their race times. 800m is the first event\, 100m is the second event and 4×100 run last. \nPlease dress appropriately for the ever changing weather conditions. We recommend a hat\, sunscreen and a sweater/jacket as it is often chilly with the wind up in the stands. \n  \n 
URL:https://torquay.sd61.bc.ca/calendar-event/zone-a-track-meet/
END:VEVENT
BEGIN:VEVENT
DTSTART;VALUE=DATE:20160523
DTEND;VALUE=DATE:20160524
DTSTAMP:20260419T193420
CREATED:20160427T183137Z
LAST-MODIFIED:20160427T183137Z
UID:2638-1463961600-1464047999@torquay.sd61.bc.ca
SUMMARY:Victoria Day - School Closed
DESCRIPTION:
URL:https://torquay.sd61.bc.ca/calendar-event/victoria-day-school-closed/
END:VEVENT
BEGIN:VEVENT
DTSTART;TZID=America/Vancouver:20160520T084500
DTEND;TZID=America/Vancouver:20160520T144000
DTSTAMP:20260419T193420
CREATED:20160427T183117Z
LAST-MODIFIED:20160427T183117Z
UID:2637-1463733900-1463755200@torquay.sd61.bc.ca
SUMMARY:Pro-D Day - students not in session
DESCRIPTION:
URL:https://torquay.sd61.bc.ca/calendar-event/pro-d-day-students-not-in-session-2/
END:VEVENT
BEGIN:VEVENT
DTSTART;TZID=America/Vancouver:20160519T130000
DTEND;TZID=America/Vancouver:20160519T143000
DTSTAMP:20260419T193420
CREATED:20160212T215337Z
LAST-MODIFIED:20160212T215337Z
UID:2502-1463662800-1463668200@torquay.sd61.bc.ca
SUMMARY:Grade 5 Transition Day
DESCRIPTION:All grade 5’s will visit their Middle School for the 2016-17 school year. Those students attending their pathway school of Gordon Head Middle School will walk down with their teacher and other supervisors. \n  \nPlease note: Any students attending a middle school other than their catchment school will be responsible to find transportation to and from their school of choice.
URL:https://torquay.sd61.bc.ca/calendar-event/grade-5-transition-day/
END:VEVENT
BEGIN:VEVENT
DTSTART;TZID=America/Vancouver:20160518T183000
DTEND;TZID=America/Vancouver:20160518T183000
DTSTAMP:20260419T193420
CREATED:20160425T202130Z
LAST-MODIFIED:20160425T202220Z
UID:2619-1463596200-1463596200@torquay.sd61.bc.ca
SUMMARY:TPAC AGM - 6:30pm in School Library
DESCRIPTION:
URL:https://torquay.sd61.bc.ca/calendar-event/tpac-agm/
END:VEVENT
BEGIN:VEVENT
DTSTART;TZID=America/Vancouver:20160514T100000
DTEND;TZID=America/Vancouver:20160514T130000
DTSTAMP:20260419T193420
CREATED:20160330T204940Z
LAST-MODIFIED:20160330T204940Z
UID:2590-1463220000-1463230800@torquay.sd61.bc.ca
SUMMARY:Junk in Your Trunk Sale
DESCRIPTION:Torquay Elementary School is hosting a Junk in Your Trunk sale to help raise funds for our new school playground. This is an opportunity for families to clear out unused household items\, gently used children’s toys and clothing and make a few dollars in the process. \nHere’s how it works:  \nFamilies will have a chance to rent either a parking space (you will use your car) or table to sell their items. Rentals are $25.00 per parking space/table and all proceeds from the rentals will go to our playground fund. Families will keep the proceeds from the sale of their items. This opportunity is open to anyone wishing to sell their gently used items. So share the news\, and invite a friend (or two). \nThe Details: \nWhat: Junk in Your Trunk Sale \nWhen: Saturday\, May 14\, 2016 \nTime: 10:00 am to 1:00 pm \nWhere: Torquay Elementary School \nCost: $25.00 per space/table \nBe sure to register early so you don’t miss out on this excellent opportunity. To reserve your spot contact Tina at 250-477-9511 or torquay@sd61.bc.ca with your name\, email/phone number and the number of tables you require. Payments can be made to Torquay Elementary School by cash or cheque. \nThe Finer Details: \nTables will be set up in the Gymnasium and cars will be set up on the basketball courts. The gate will be opened at 9:00 am to allow sellers access to the space for set up. Families are asked to remove all garbage and unsold items at the end of the sale. Any volunteers wishing to assist with set up and take down can contact the school office.  \nThank you for continuing to support our playground initiative
URL:https://torquay.sd61.bc.ca/calendar-event/junk-in-your-trunk-sale/
LOCATION:Torquay Gym
END:VEVENT
BEGIN:VEVENT
DTSTART;TZID=America/Vancouver:20160513T115500
DTEND;TZID=America/Vancouver:20160513T121000
DTSTAMP:20260419T193420
CREATED:20160331T180618Z
LAST-MODIFIED:20160331T180618Z
UID:2595-1463140500-1463141400@torquay.sd61.bc.ca
SUMMARY:Pizza Day
DESCRIPTION:
URL:https://torquay.sd61.bc.ca/calendar-event/pizza-day-7/
END:VEVENT
BEGIN:VEVENT
DTSTART;TZID=America/Vancouver:20160512T170000
DTEND;TZID=America/Vancouver:20160512T193000
DTSTAMP:20260419T193420
CREATED:20160212T214851Z
LAST-MODIFIED:20160427T182806Z
UID:2501-1463072400-1463081400@torquay.sd61.bc.ca
SUMMARY:TPAC Spring Fair
DESCRIPTION:BBQ dinner 5:30 \nGames and Event starts at 6:00
URL:https://torquay.sd61.bc.ca/calendar-event/tpac-spring-fair/
END:VEVENT
BEGIN:VEVENT
DTSTART;TZID=America/Vancouver:20160510T104500
DTEND;TZID=America/Vancouver:20160510T114500
DTSTAMP:20260419T193420
CREATED:20160229T195935Z
LAST-MODIFIED:20160229T195935Z
UID:2553-1462877100-1462880700@torquay.sd61.bc.ca
SUMMARY:Saanich Emergency Preparedness Program
DESCRIPTION:“In our Grade 4 Preparedness Program\, we provide children with practical information and tools to take home to their parents or caregivers on the importance of emergency preparedness\,” says Frank Macdonald\, Saanich Deputy Fire Chief. \nSaanich Emergency Program and Red Cross volunteers assist with delivering presentations to students\, sharing their knowledge and experience. The presentations consist of an emergency preparedness talk followed by two relay races that reinforce good choices when compiling an emergency preparedness kit. All students receive a start to their individual Grab and Go Kits to take home and complete.
URL:https://torquay.sd61.bc.ca/calendar-event/saanich-emergency-preparedness-program/
END:VEVENT
BEGIN:VEVENT
DTSTART;TZID=America/Vancouver:20160506T144000
DTEND;TZID=America/Vancouver:20160506T145500
DTSTAMP:20260419T193420
CREATED:20160427T173040Z
LAST-MODIFIED:20160427T173040Z
UID:2627-1462545600-1462546500@torquay.sd61.bc.ca
SUMMARY:Freezie Friday!
DESCRIPTION:Grade 5 students will be selling some yummy Freezies after school so come and enjoy a nice cold treat after a long day of learning. Cost TBA. \nAll proceeds will help in funding the grade 5 year end field trip.
URL:https://torquay.sd61.bc.ca/calendar-event/freezie-friday/
END:VEVENT
BEGIN:VEVENT
DTSTART;TZID=America/Vancouver:20160429T115500
DTEND;TZID=America/Vancouver:20160429T121000
DTSTAMP:20260419T193420
CREATED:20160209T231042Z
LAST-MODIFIED:20160209T231118Z
UID:2491-1461930900-1461931800@torquay.sd61.bc.ca
SUMMARY:Fun Lunch - Subway
DESCRIPTION:
URL:https://torquay.sd61.bc.ca/calendar-event/fun-lunch-subway-8/
END:VEVENT
BEGIN:VEVENT
DTSTART;TZID=America/Vancouver:20160428T090000
DTEND;TZID=America/Vancouver:20160428T094500
DTSTAMP:20260419T193420
CREATED:20160209T230949Z
LAST-MODIFIED:20160209T230949Z
UID:2490-1461834000-1461836700@torquay.sd61.bc.ca
SUMMARY:Recognition Assembly
DESCRIPTION:
URL:https://torquay.sd61.bc.ca/calendar-event/recognition-assembly-8/
END:VEVENT
BEGIN:VEVENT
DTSTART;TZID=America/Vancouver:20160427T144000
DTEND;TZID=America/Vancouver:20160427T145500
DTSTAMP:20260419T193420
CREATED:20151022T151856Z
LAST-MODIFIED:20151022T151856Z
UID:2070-1461768000-1461768900@torquay.sd61.bc.ca
SUMMARY:Cupcake Day - Divisions 04 and 10
DESCRIPTION:Students in divisions 4 and 10 will provide cupcakes to be sold after school. All proceeds go to charities chosen by the students. \nPlease drop off allergy aware cupcakes to the school office.
URL:https://torquay.sd61.bc.ca/calendar-event/cupcake-day-divisions-04-and-10/
END:VEVENT
BEGIN:VEVENT
DTSTART;TZID=America/Vancouver:20160422T115500
DTEND;TZID=America/Vancouver:20160422T121500
DTSTAMP:20260419T193420
CREATED:20160121T200941Z
LAST-MODIFIED:20160121T200941Z
UID:2430-1461326100-1461327300@torquay.sd61.bc.ca
SUMMARY:Fun Lunch - Special Sushi Day
DESCRIPTION:
URL:https://torquay.sd61.bc.ca/calendar-event/fun-lunch-special-sushi-day-2/
END:VEVENT
BEGIN:VEVENT
DTSTART;TZID=America/Vancouver:20160422T084500
DTEND;TZID=America/Vancouver:20160422T144000
DTSTAMP:20260419T193420
CREATED:20160331T164325Z
LAST-MODIFIED:20160331T164325Z
UID:2594-1461314700-1461336000@torquay.sd61.bc.ca
SUMMARY:Earth Day
DESCRIPTION:Torquay School will participate in the following Earth Day activities: \nTim Horton’s Community Clean Up (Parent Volunteers needed\, please contact your classroom rep) \nLights Out Canada – all classroom are encouraged to “turn the lights out” and participate in activities that reduce our carbon footprint while learning about climate change.
URL:https://torquay.sd61.bc.ca/calendar-event/earth-day-2/
END:VEVENT
BEGIN:VEVENT
DTSTART;TZID=America/Vancouver:20160419T144000
DTEND;TZID=America/Vancouver:20160419T144000
DTSTAMP:20260419T193420
CREATED:20160401T153631Z
LAST-MODIFIED:20160401T153631Z
UID:2599-1461076800-1461076800@torquay.sd61.bc.ca
SUMMARY:+Milk for K - 2 Students
DESCRIPTION:
URL:https://torquay.sd61.bc.ca/calendar-event/milk-for-k-2-students/
END:VEVENT
BEGIN:VEVENT
DTSTART;TZID=America/Vancouver:20160419T144000
DTEND;TZID=America/Vancouver:20160419T144000
DTSTAMP:20260419T193420
CREATED:20160401T153534Z
LAST-MODIFIED:20160401T153534Z
UID:2598-1461076800-1461076800@torquay.sd61.bc.ca
SUMMARY:Fruit and Veggie Day canceled due to allergy
DESCRIPTION:
URL:https://torquay.sd61.bc.ca/calendar-event/fruit-and-veggie-day-canceled-due-to-allergy/
END:VEVENT
BEGIN:VEVENT
DTSTART;TZID=America/Vancouver:20160415T115500
DTEND;TZID=America/Vancouver:20160415T121000
DTSTAMP:20260419T193420
CREATED:20160209T230830Z
LAST-MODIFIED:20160209T230830Z
UID:2488-1460721300-1460722200@torquay.sd61.bc.ca
SUMMARY:Fun Lunch - Pizza
DESCRIPTION:
URL:https://torquay.sd61.bc.ca/calendar-event/fun-lunch-pizza-5/
END:VEVENT
BEGIN:VEVENT
DTSTART;TZID=America/Vancouver:20160415T080000
DTEND;TZID=America/Vancouver:20160415T170000
DTSTAMP:20260419T193420
CREATED:20160108T221154Z
LAST-MODIFIED:20160108T221154Z
UID:2404-1460707200-1460739600@torquay.sd61.bc.ca
SUMMARY:Spring Photos
DESCRIPTION:Parents will have the option of purchasing a Spring Photo package from Lifetouch. All students will receive a class photo free of charge.
URL:https://torquay.sd61.bc.ca/calendar-event/spring-photos/
END:VEVENT
BEGIN:VEVENT
DTSTART;TZID=America/Vancouver:20160414T080000
DTEND;TZID=America/Vancouver:20160414T170000
DTSTAMP:20260419T193420
CREATED:20160406T151108Z
LAST-MODIFIED:20160406T165457Z
UID:2601-1460620800-1460653200@torquay.sd61.bc.ca
SUMMARY:Silver Brick Road Fundraiser
DESCRIPTION:On Thursday\, April 14th\, 2016\, we are planning on constructing  a Silver Brick Road in order to fund raise for the new school playground.  We invite you to collect silver coins (nickels\, dimes\, quarters) with your child to bring to school on  April 14th.  Our goal is to make a path of coins that travels through the hall from one end of the school to the other! Please note\, no child will be denied participation in the activity if they are unable to contribute coins. \nBuddy classes will work together to add their coins to the Silver Brick Road throughout the day.  We will be collecting and rolling all the coins after the event and depositing the money in the school’s playground fund found at: \nhttps://www.canadahelps.org/dn/25121. \nAny contribution is greatly appreciated. If you feel comfortable please ask your family\, friends and neighbours to contribute too.  Together many small coins can make a big difference!
URL:https://torquay.sd61.bc.ca/calendar-event/silver-brick-road-fundraiser/
END:VEVENT
BEGIN:VEVENT
DTSTART;TZID=America/Vancouver:20160413T183000
DTEND;TZID=America/Vancouver:20160413T200000
DTSTAMP:20260419T193420
CREATED:20151207T194111Z
LAST-MODIFIED:20151207T194111Z
UID:2321-1460572200-1460577600@torquay.sd61.bc.ca
SUMMARY:TPAC Meeting - 6:30pm in School Library
DESCRIPTION:
URL:https://torquay.sd61.bc.ca/calendar-event/tpac-meeting-630pm-in-school-library-2/
END:VEVENT
BEGIN:VEVENT
DTSTART;TZID=America/Vancouver:20160413T090000
DTEND;TZID=America/Vancouver:20160413T094500
DTSTAMP:20260419T193420
CREATED:20160229T195325Z
LAST-MODIFIED:20160229T195325Z
UID:2552-1460538000-1460540700@torquay.sd61.bc.ca
SUMMARY:Viva Youth Choir perform
DESCRIPTION:All students will have an opportunity to watch a special performance by Viva Youth Choir
URL:https://torquay.sd61.bc.ca/calendar-event/viva-youth-choir-perform/
END:VEVENT
BEGIN:VEVENT
DTSTART;TZID=America/Vancouver:20160406T130000
DTEND;TZID=America/Vancouver:20160406T180000
DTSTAMP:20260419T193420
CREATED:20160108T220902Z
LAST-MODIFIED:20160108T220902Z
UID:2402-1459947600-1459965600@torquay.sd61.bc.ca
SUMMARY:Student Led Conferences - Students dismissed at 11:54
DESCRIPTION:
URL:https://torquay.sd61.bc.ca/calendar-event/student-led-conferences-students-dismissed-at-1154/
END:VEVENT
BEGIN:VEVENT
DTSTART;TZID=America/Vancouver:20160406T115500
DTEND;TZID=America/Vancouver:20160406T115500
DTSTAMP:20260419T193420
CREATED:20160108T220945Z
LAST-MODIFIED:20160108T220945Z
UID:2403-1459943700-1459943700@torquay.sd61.bc.ca
SUMMARY:Early Dismissal for all students
DESCRIPTION:
URL:https://torquay.sd61.bc.ca/calendar-event/early-dismissal-for-all-students/
END:VEVENT
END:VCALENDAR