BEGIN:VCALENDAR
VERSION:2.0
PRODID:-//Torquay Elementary - ECPv6.2.8.1//NONSGML v1.0//EN
CALSCALE:GREGORIAN
METHOD:PUBLISH
X-WR-CALNAME:Torquay Elementary
X-ORIGINAL-URL:https://torquay.sd61.bc.ca
X-WR-CALDESC:Events for Torquay Elementary
REFRESH-INTERVAL;VALUE=DURATION:PT1H
X-Robots-Tag:noindex
X-PUBLISHED-TTL:PT1H
BEGIN:VTIMEZONE
TZID:America/Vancouver
BEGIN:DAYLIGHT
TZOFFSETFROM:-0800
TZOFFSETTO:-0700
TZNAME:PDT
DTSTART:20160313T100000
END:DAYLIGHT
BEGIN:STANDARD
TZOFFSETFROM:-0700
TZOFFSETTO:-0800
TZNAME:PST
DTSTART:20161106T090000
END:STANDARD
END:VTIMEZONE
BEGIN:VEVENT
DTSTART;TZID=America/Vancouver:20160222T080000
DTEND;TZID=America/Vancouver:20160222T150000
DTSTAMP:20260420T034650
CREATED:20160209T225229Z
LAST-MODIFIED:20160212T225040Z
UID:2482-1456128000-1456153200@torquay.sd61.bc.ca
SUMMARY:Preliminary Swim Meet
DESCRIPTION:All students participating in Swim Club will be at Commonwealth Pool for the duration of the school day. Please refer to notices from Swim Club teachers for exact times.
URL:https://torquay.sd61.bc.ca/calendar-event/preliminary-swim-meet/
END:VEVENT
END:VCALENDAR