BEGIN:VCALENDAR
VERSION:2.0
PRODID:-//Torquay Elementary - ECPv6.2.8.1//NONSGML v1.0//EN
CALSCALE:GREGORIAN
METHOD:PUBLISH
X-WR-CALNAME:Torquay Elementary
X-ORIGINAL-URL:https://torquay.sd61.bc.ca
X-WR-CALDESC:Events for Torquay Elementary
REFRESH-INTERVAL;VALUE=DURATION:PT1H
X-Robots-Tag:noindex
X-PUBLISHED-TTL:PT1H
BEGIN:VTIMEZONE
TZID:America/Vancouver
BEGIN:DAYLIGHT
TZOFFSETFROM:-0800
TZOFFSETTO:-0700
TZNAME:PDT
DTSTART:20160313T100000
END:DAYLIGHT
BEGIN:STANDARD
TZOFFSETFROM:-0700
TZOFFSETTO:-0800
TZNAME:PST
DTSTART:20161106T090000
END:STANDARD
END:VTIMEZONE
BEGIN:VEVENT
DTSTART;TZID=America/Vancouver:20160216T144000
DTEND;TZID=America/Vancouver:20160216T144000
DTSTAMP:20260420T034650
CREATED:20160209T224138Z
LAST-MODIFIED:20160209T224235Z
UID:2480-1455633600-1455633600@torquay.sd61.bc.ca
SUMMARY:Fruit and Veggie and +Milk delivery date
DESCRIPTION:All students in grades K through grade 5 will have the opportunity to enjoy fresh fruit/vegetables. This weeks delivery will be organic apples. \nStudents in grade K through 2 will have access to fresh milk in the classroom.
URL:https://torquay.sd61.bc.ca/calendar-event/bc-aic-fruit-and-veggie-day/
END:VEVENT
END:VCALENDAR